BEGIN:VCALENDAR
VERSION:2.0
PRODID:-//South Dakota Home Builders Association - ECPv6.2.8.2//NONSGML v1.0//EN
CALSCALE:GREGORIAN
METHOD:PUBLISH
X-ORIGINAL-URL:https://sdhomebuilders.com
X-WR-CALDESC:Events for South Dakota Home Builders Association
REFRESH-INTERVAL;VALUE=DURATION:PT1H
X-Robots-Tag:noindex
X-PUBLISHED-TTL:PT1H
BEGIN:VTIMEZONE
TZID:America/Chicago
BEGIN:DAYLIGHT
TZOFFSETFROM:-0600
TZOFFSETTO:-0500
TZNAME:CDT
DTSTART:20240310T080000
END:DAYLIGHT
BEGIN:STANDARD
TZOFFSETFROM:-0500
TZOFFSETTO:-0600
TZNAME:CST
DTSTART:20241103T070000
END:STANDARD
END:VTIMEZONE
BEGIN:VEVENT
DTSTART;TZID=America/Chicago:20240509T071500
DTEND;TZID=America/Chicago:20240509T091500
DTSTAMP:20260423T033044
CREATED:20231218T145108Z
LAST-MODIFIED:20231218T145108Z
UID:15055-1715238900-1715246100@sdhomebuilders.com
SUMMARY:Executive Committee
DESCRIPTION:
URL:https://sdhomebuilders.com/event/executive-committee-5/
LOCATION:SD
CATEGORIES:Executive Committee
ORGANIZER;CN="Executive Vice President SDHBA":MAILTO:office@sdhomebuilders.com
END:VEVENT
BEGIN:VEVENT
DTSTART;TZID=America/Chicago:20240513T120000
DTEND;TZID=America/Chicago:20240513T130000
DTSTAMP:20260423T033044
CREATED:20231116T170043Z
LAST-MODIFIED:20231116T170043Z
UID:14882-1715601600-1715605200@sdhomebuilders.com
SUMMARY:Legislative Committee
DESCRIPTION:
URL:https://sdhomebuilders.com/event/legislative-committee-28/
LOCATION:SD
CATEGORIES:Legislative Committee
ORGANIZER;CN="Executive Vice President SDHBA":MAILTO:office@sdhomebuilders.com
END:VEVENT
BEGIN:VEVENT
DTSTART;TZID=America/Chicago:20240515T100000
DTEND;TZID=America/Chicago:20240515T110000
DTSTAMP:20260423T033044
CREATED:20240221T193056Z
LAST-MODIFIED:20240221T193056Z
UID:15267-1715767200-1715770800@sdhomebuilders.com
SUMMARY:Workforce Committee
DESCRIPTION:Topic: SDHBA Workforce Committee \nFor more information reach:\nCommittee Chairman: Kurt Preszler at megaconstruction.kp@gmail.com\nCommittee Vice-Chairman: Daniel Glammeier at danielgl@live.com\nSDHBA Executive Vice President: Rachel Dix at rachel@sdhomebuilders.com  \nTime: Jan 17\, 2024 10:00 AM Central Time (US and Canada)\n        Every month on the Third Wednesday \n        May 15\, 2024 10:00 AM\n        Jun 19\, 2024 10:00 AM\n        Jul 17\, 2024 10:00 AM\n        Aug 21\, 2024 10:00 AM\n        Sep 18\, 2024 10:00 AM\n        Oct 16\, 2024 10:00 AM\n        Nov 20\, 2024 10:00 AM\n        Dec 18\, 2024 10:00 AM\nPlease download and import the following iCalendar (.ics) files to your calendar system.\nMonthly: https://us02web.zoom.us/meeting/tZAqd-uspz4vEtYMdIpjEeaWtWp-WcamB7EQ/ics?icsToken=98tyKuGsqTsoHt2QtRGFRpwIB4iga-jxmCVYj7dksRvMEyp2ZwLBItVSf4V8EdXy \nJoin Zoom Meeting\nhttps://us02web.zoom.us/j/84702495582 \nMeeting ID: 847 0249 5582
URL:https://sdhomebuilders.com/event/workforce-committee-4/
LOCATION:SD
CATEGORIES:Workforce Committee
ORGANIZER;CN="Executive Vice President SDHBA":MAILTO:office@sdhomebuilders.com
END:VEVENT
END:VCALENDAR