BEGIN:VCALENDAR
VERSION:2.0
PRODID:-//South Dakota Home Builders Association - ECPv6.2.8.2//NONSGML v1.0//EN
CALSCALE:GREGORIAN
METHOD:PUBLISH
X-ORIGINAL-URL:https://sdhomebuilders.com
X-WR-CALDESC:Events for South Dakota Home Builders Association
REFRESH-INTERVAL;VALUE=DURATION:PT1H
X-Robots-Tag:noindex
X-PUBLISHED-TTL:PT1H
BEGIN:VTIMEZONE
TZID:America/Chicago
BEGIN:DAYLIGHT
TZOFFSETFROM:-0600
TZOFFSETTO:-0500
TZNAME:CDT
DTSTART:20230312T080000
END:DAYLIGHT
BEGIN:STANDARD
TZOFFSETFROM:-0500
TZOFFSETTO:-0600
TZNAME:CST
DTSTART:20231105T070000
END:STANDARD
END:VTIMEZONE
BEGIN:VEVENT
DTSTART;TZID=America/Chicago:20231101T163000
DTEND;TZID=America/Chicago:20231103T163000
DTSTAMP:20260423T034111
CREATED:20221222T201242Z
LAST-MODIFIED:20230726T144720Z
UID:13630-1698856200-1699029000@sdhomebuilders.com
SUMMARY:SDHBA Fall Boards & Member Gatherings (Brookings\, SD)
DESCRIPTION:Save the Dates! \nNovember 2-3\, 2023 \nThurs\, Nov. 2 – senior officers morning meeting \nThurs\, Nov. 2 – committee meetings 1-6pm *social to follow \nFri\, Nov. 3 – board meetings 8:30am-1pm \nFri. Nov. 3 – Annual Awards Banquet \nMore information to follow.
URL:https://sdhomebuilders.com/event/sdhba-fall-boards-member-gatherings-brookings-sd/
LOCATION:SD
CATEGORIES:State Board Meetings,State Events
ATTACH;FMTTYPE=image/png:https://sdhomebuilders.com/wp-content/uploads/2022/12/SDHBA-Committee-covers-2.png
ORGANIZER;CN="Executive Vice President SDHBA":MAILTO:office@sdhomebuilders.com
END:VEVENT
BEGIN:VEVENT
DTSTART;TZID=America/Chicago:20231113T120000
DTEND;TZID=America/Chicago:20231113T130000
DTSTAMP:20260423T034111
CREATED:20230809T004654Z
LAST-MODIFIED:20230809T004654Z
UID:14599-1699876800-1699880400@sdhomebuilders.com
SUMMARY:Legislative Committee
DESCRIPTION:
URL:https://sdhomebuilders.com/event/legislative-committee-15/
LOCATION:SD
CATEGORIES:Legislative Committee
END:VEVENT
BEGIN:VEVENT
DTSTART;TZID=America/Chicago:20231115T100000
DTEND;TZID=America/Chicago:20231115T110000
DTSTAMP:20260423T034111
CREATED:20221222T194607Z
LAST-MODIFIED:20230313T125915Z
UID:13615-1700042400-1700046000@sdhomebuilders.com
SUMMARY:SDHBA Workforce Committee (Virtual)
DESCRIPTION:Join SDHBA members across the state each month to discuss workforce initiatives\, opportunities and challenges. \nEvery month on the Third Wednesday at 10am cnt./9am mnt. \nJoin Zoom Meeting\nhttps://us02web.zoom.us/j/85754933665 \nJan 18\, 2023 10:00 AM\nFeb 15\, 2023 10:00 AM\nMar 15\, 2023 10:00 AM\nApr 19\, 2023 10:00 AM\nMay 17\, 2023 10:00 AM\nJun 21\, 2023 10:00 AM\nJul 19\, 2023 10:00 AM\nAug 16\, 2023 10:00 AM\nSep 20\, 2023 10:00 AM\nOct 18\, 2023 10:00 AM\nNov 15\, 2023 10:00 AM\nDec 20\, 2023 10:00 AM \nPlease download and import the following iCalendar (.ics) files to your calendar system or subscribe to the SDHBA website calendar. \nMonthly: https://us02web.zoom.us/meeting/tZEqcu2hrTgsHNG2utlkAmhzW8fGhY4Fwq_D/ics?icsToken=98tyKuGtqT4uE9eWth-CRpwMB4_4LPPztnZdgo16zgrxDytybwvsAbpEFbpGRP7H \n  \nMeeting ID: 857 5493 3665 \n 
URL:https://sdhomebuilders.com/event/sdhba-workforce-committee-virtual-10/
LOCATION:SD
CATEGORIES:Workforce Committee
ATTACH;FMTTYPE=image/png:https://sdhomebuilders.com/wp-content/uploads/2022/12/Workforce-Cover.png
ORGANIZER;CN="Executive Vice President SDHBA":MAILTO:office@sdhomebuilders.com
END:VEVENT
BEGIN:VEVENT
DTSTART;TZID=America/Chicago:20231116T173000
DTEND;TZID=America/Chicago:20231116T210000
DTSTAMP:20260423T034111
CREATED:20231101T032537Z
LAST-MODIFIED:20231101T032537Z
UID:14802-1700155800-1700168400@sdhomebuilders.com
SUMMARY:WAHBA Annual Awards & Installation Banquet
DESCRIPTION:Come help us CELEBRATE 2023!! What a year it has been! \nWe’ll enjoy a delicious catered meal from Country Road Barn\, refreshments\, virtual golf and prizes!! We will also give out awards for 2023 and install our 2024 leadership. \nExcited to have representatives from SDHBA and NAHB join us!!
URL:https://sdhomebuilders.com/event/wahba-annual-awards-installation-banquet/
LOCATION:Glacial Lakes Powersports\, 1604 9th Ave SW\, Watertown\, SD\, 57201\, United States
CATEGORIES:Annual Banquet,Watertown Area HBA Events
ATTACH;FMTTYPE=image/jpeg:https://sdhomebuilders.com/wp-content/uploads/2023/10/Sponsors-2023.jpg
ORGANIZER;CN="Watertown Area HBA":MAILTO:wahba.sd@gmail.com
END:VEVENT
END:VCALENDAR