BEGIN:VCALENDAR
VERSION:2.0
PRODID:-//South Dakota Home Builders Association - ECPv6.2.8.2//NONSGML v1.0//EN
CALSCALE:GREGORIAN
METHOD:PUBLISH
X-ORIGINAL-URL:https://sdhomebuilders.com
X-WR-CALDESC:Events for South Dakota Home Builders Association
REFRESH-INTERVAL;VALUE=DURATION:PT1H
X-Robots-Tag:noindex
X-PUBLISHED-TTL:PT1H
BEGIN:VTIMEZONE
TZID:America/Chicago
BEGIN:DAYLIGHT
TZOFFSETFROM:-0600
TZOFFSETTO:-0500
TZNAME:CDT
DTSTART:20260308T080000
END:DAYLIGHT
BEGIN:STANDARD
TZOFFSETFROM:-0500
TZOFFSETTO:-0600
TZNAME:CST
DTSTART:20261101T070000
END:STANDARD
END:VTIMEZONE
BEGIN:VEVENT
DTSTART;TZID=America/Chicago:20260430T080000
DTEND;TZID=America/Chicago:20260501T110000
DTSTAMP:20260423T130022
CREATED:20260422T192929Z
LAST-MODIFIED:20260422T192929Z
UID:16795-1777536000-1777633200@sdhomebuilders.com
SUMMARY:SDHBA Spring Board Meetings
DESCRIPTION:Thursday | April 30 | 2026 \n8:00 – 10:00           Senior Officer Meeting\n10:00 – 11:00          Workforce Committee Meeting\n10:00 – 11:00          Build PAC Meeting\n11:00                    Break\n11:10 – 12:00          Membership Committee Meeting\n11:10 – 12:00          Legislative Committee Meeting\n12:00                    Lunch Served\n12:00 – 12:30          Finance Working Group\n12:00 – 12:30          Nominating Working Group\n12:30 – 1:00             Roundtable Sessions\n1:00 – 1:30               Roundtable Sessions\n1:30                     Break\n1:45 – 3:15               Executive Committee Meeting\n5:00 – 7:00             Evening Social at Domellie’s \nFriday | May 1 | 2026 \n8:00 – 11:00           Spring Board Meeting
URL:https://sdhomebuilders.com/event/sdhba-spring-board-meetings/
LOCATION:Domellie’s\, 929 25th Avenue\, Brookings\, SD\, United States
END:VEVENT
END:VCALENDAR